BEGIN:VCALENDAR
VERSION:2.0
PRODID:www.gruene-in-groepelingen.de
METHOD:PUBLISH
BEGIN:VTIMEZONE
TZID:Europe/Berlin
X-LIC-LOCATION:Europe/Berlin
BEGIN:DAYLIGHT
TZOFFSETFROM:+0100
TZOFFSETTO:+0200
TZNAME:CEST
DTSTART:19700329T020000
RRULE:FREQ=YEARLY;INTERVAL=1;BYDAY=-1SU;BYMONTH=3
END:DAYLIGHT
BEGIN:STANDARD
TZOFFSETFROM:+0200
TZOFFSETTO:+0100
TZNAME:CET
DTSTART:19701025T030000
RRULE:FREQ=YEARLY;INTERVAL=1;BYDAY=-1SU;BYMONTH=10
END:STANDARD
END:VTIMEZONE
BEGIN:VEVENT
UID:7c8e03dd1e153b58b1d136821fd2828a@www.gruene-in-groepelingen.de
URL;VALUE=URI:https://www.gruene-in-groepelingen.de/termine/beirat-2/
LOCATION:Na, Beim Ohlenhof 10
SUMMARY:Beirat
DESCRIPTION;ALTREP="data:text/html,%3Ca%20href%3D%22https%3A%2F%2Fwww.ort
 samtwest.bremen.de%2Fsixcms%2Fmedia.php%2F13%2F2026-02-11_Einladung%2520X
 IV%2520Beirat%2520Gr%25C3%25B6.pdf%22%3EEinladung%3C%2Fa%3E%0D%0A%0D%0Aht
 tps%3A%2F%2Fwww.ortsamtwest.bremen.de%2Fsixcms%2Fmedia.php%2F13%2F2026-02
 -11_Einladung%2520XIV%2520Beirat%2520Gr%25C3%25B6.pdf":Einladung\n\nhttps
 ://www.ortsamtwest.bremen.de/sixcms/media.php/13/2026-02-11_Einladung%20X
 IV%20Beirat%20Gr%C3%B6.pdf
CLASS:PUBLIC
DTSTART;TZID=Europe/Berlin:20260211T183000
DTEND;TZID=Europe/Berlin:20260211T220000
DTSTAMP:20260422T014831
END:VEVENT
END:VCALENDAR